BEGIN:VCALENDAR
VERSION:2.0
PRODID:icalendar-ruby
CALSCALE:GREGORIAN
METHOD:PUBLISH
BEGIN:VEVENT
DTSTAMP:20260420T190112Z
UID:35-1434839@stjohninthewilderness.com
DTSTART:20260819T170000Z
DTEND:20260819T190000Z
CLASS:PUBLIC
CREATED:20260420T150014
DESCRIPTION:
LAST-MODIFIED:20260420T150014
LOCATION:Parish Hall
SUMMARY:Prayer Shawl Group
URL;VALUE=URI:https://www.stjohninthewilderness.com/events/prayer-shawl-gro
 up--35/2026-08-19
ATTACH;FILENAME=Prayer-Shawl-Squares.jpeg;FMTTYPE=image/jpeg:https://dq5pwp
 g1q8ru0.cloudfront.net/2023/10/29/20/49/16/c51f8af9-5017-4c83-b1bd-cfaeea1
 cb25a/Prayer-Shawl-Squares.jpeg
END:VEVENT
END:VCALENDAR
