BEGIN:VCALENDAR
VERSION:2.0
PRODID:icalendar-ruby
CALSCALE:GREGORIAN
METHOD:PUBLISH
BEGIN:VEVENT
DTSTAMP:20260423T083827Z
UID:71-1450786@stjohninthewilderness.com
DTSTART:20261022T140000Z
DTEND:20261022T153000Z
CLASS:PUBLIC
CREATED:20260422T215730
DESCRIPTION:
LAST-MODIFIED:20260422T215730
LOCATION:Parish Hall
SUMMARY:Bible Study
URL;VALUE=URI:https://www.stjohninthewilderness.com/events/bible-study/2026
 -10-22
END:VEVENT
END:VCALENDAR
