BEGIN:VCALENDAR
VERSION:2.0
PRODID:icalendar-ruby
CALSCALE:GREGORIAN
METHOD:PUBLISH
BEGIN:VEVENT
DTSTAMP:20260422T235609Z
UID:71-1449685@stjohninthewilderness.com
DTSTART:20260917T140000Z
DTEND:20260917T153000Z
CLASS:PUBLIC
CREATED:20260422T190446
DESCRIPTION:
LAST-MODIFIED:20260422T190446
LOCATION:Parish Hall
SUMMARY:Bible Study
URL;VALUE=URI:https://www.stjohninthewilderness.com/events/bible-study/2026
 -09-17
END:VEVENT
END:VCALENDAR
